BEGIN:VCALENDAR
VERSION:2.0
PRODID:-//KOOTASCA - ECPv6.15.20//NONSGML v1.0//EN
CALSCALE:GREGORIAN
METHOD:PUBLISH
X-WR-CALNAME:KOOTASCA
X-ORIGINAL-URL:https://www.kootasca.org
X-WR-CALDESC:Events for KOOTASCA
REFRESH-INTERVAL;VALUE=DURATION:PT1H
X-Robots-Tag:noindex
X-PUBLISHED-TTL:PT1H
BEGIN:VTIMEZONE
TZID:America/Chicago
BEGIN:DAYLIGHT
TZOFFSETFROM:-0600
TZOFFSETTO:-0500
TZNAME:CDT
DTSTART:20250309T080000
END:DAYLIGHT
BEGIN:STANDARD
TZOFFSETFROM:-0500
TZOFFSETTO:-0600
TZNAME:CST
DTSTART:20251102T070000
END:STANDARD
BEGIN:DAYLIGHT
TZOFFSETFROM:-0600
TZOFFSETTO:-0500
TZNAME:CDT
DTSTART:20260308T080000
END:DAYLIGHT
BEGIN:STANDARD
TZOFFSETFROM:-0500
TZOFFSETTO:-0600
TZNAME:CST
DTSTART:20261101T070000
END:STANDARD
BEGIN:DAYLIGHT
TZOFFSETFROM:-0600
TZOFFSETTO:-0500
TZNAME:CDT
DTSTART:20270314T080000
END:DAYLIGHT
BEGIN:STANDARD
TZOFFSETFROM:-0500
TZOFFSETTO:-0600
TZNAME:CST
DTSTART:20271107T070000
END:STANDARD
END:VTIMEZONE
BEGIN:VEVENT
DTSTART;TZID=America/Chicago:20260326T090000
DTEND;TZID=America/Chicago:20260326T173000
DTSTAMP:20260421T064527
CREATED:20251210T190018Z
LAST-MODIFIED:20260225T174406Z
UID:5728-1774515600-1774546200@www.kootasca.org
SUMMARY:Zoom March Homebuyer Workshop
DESCRIPTION:Thinking of putting down some roots?\nJoin us for a virtual class!\nMarch 26th\n9am to 5:30pm \nRegistration is required per household for your class materials\nCall Sandy at 218-999-0828 or register here. \nLong-term successful homeownership starts with solid information. Home Stretch is an in-person – classroom style – workshop taught by experienced professionals. Get objective\, practical information to make the best homeownership choices for you and your family. \nHomebuyer Workshop Topics: \n\nQualifying for a mortgage/loan programs\nBudgeting\, credit issues\, and saving for a home\nShopping for a home and realtor services\nProfessional inspections/appraisals\nClosing/title insurance/homeowners insurance\nFinancial responsibilities as a homeowner\nPre-purchase counseling services\nDown-payment and Closing Cost assistance for eligible buyers\nSpecial loans for first-time homebuyers and other offers\nAnd more!\n\nYou’ll leave our workshop with confidence\, great resources\, and a Home Stretch Certification! Down-payment and closing cost assistance\, of up to $6\,000\, is available for income eligible buyers! \nIf you are in need of accommodation (e.g. a sign language interpreter\, materials in large print\, etc.) please contact us two weeks prior to this event.
URL:https://www.kootasca.org/event/zoom-home-stretch-homebuyer-workshop-march-26-2026/
LOCATION:Online
CATEGORIES:Homebuyer Education
ATTACH;FMTTYPE=image/png:https://www.kootasca.org/wp-content/uploads/2026/02/KCA-March.png
ORGANIZER;CN="Sandy O'Fallon":MAILTO:sandyo@kootasca.org
END:VEVENT
END:VCALENDAR