BEGIN:VCALENDAR
VERSION:2.0
PRODID:-//KOOTASCA - ECPv6.15.20//NONSGML v1.0//EN
CALSCALE:GREGORIAN
METHOD:PUBLISH
X-WR-CALNAME:KOOTASCA
X-ORIGINAL-URL:https://www.kootasca.org
X-WR-CALDESC:Events for KOOTASCA
REFRESH-INTERVAL;VALUE=DURATION:PT1H
X-Robots-Tag:noindex
X-PUBLISHED-TTL:PT1H
BEGIN:VTIMEZONE
TZID:America/New_York
BEGIN:DAYLIGHT
TZOFFSETFROM:-0500
TZOFFSETTO:-0400
TZNAME:EDT
DTSTART:20170312T070000
END:DAYLIGHT
BEGIN:STANDARD
TZOFFSETFROM:-0400
TZOFFSETTO:-0500
TZNAME:EST
DTSTART:20171105T060000
END:STANDARD
BEGIN:DAYLIGHT
TZOFFSETFROM:-0500
TZOFFSETTO:-0400
TZNAME:EDT
DTSTART:20180311T070000
END:DAYLIGHT
BEGIN:STANDARD
TZOFFSETFROM:-0400
TZOFFSETTO:-0500
TZNAME:EST
DTSTART:20181104T060000
END:STANDARD
BEGIN:DAYLIGHT
TZOFFSETFROM:-0500
TZOFFSETTO:-0400
TZNAME:EDT
DTSTART:20190310T070000
END:DAYLIGHT
BEGIN:STANDARD
TZOFFSETFROM:-0400
TZOFFSETTO:-0500
TZNAME:EST
DTSTART:20191103T060000
END:STANDARD
END:VTIMEZONE
BEGIN:VEVENT
DTSTART;TZID=America/New_York:20180911T110000
DTEND;TZID=America/New_York:20180911T130000
DTSTAMP:20260422T171718
CREATED:20180905T201038Z
LAST-MODIFIED:20180926T153454Z
UID:2405-1536663600-1536670800@www.kootasca.org
SUMMARY:Understanding the Opiod Epidemic - Film Viewing
DESCRIPTION:Understanding the Opioid Epidemic\nViewing at the Grand Rapids Area Library with audience input & discussion following the film. Pizza served. \nRSVP appreciated: robertf@kootasca.org or call 218-999-5883 \nThis meeting is free and open to the public. \n\nUnderstanding the Opioid Epidemic is a 2018 PBS documentary that traces the causes behind the unprecedented growth in the use of prescription opioids and the devastating impact these drugs are having in every part of America. The program captures the story through personal stories and interviews with experts. According to the Centers for Disease Control and Prevention\, 91 Americans die every day from an opioid overdose. This shocking statistic transcends geographic and socioeconomic borders. The impact on young people\, families\, and communities is devastating. \nPrescription opioids can be used to treat moderate-to-severe pain and are often prescribed following surgery or injury\, or for health conditions such as cancer. In recent years\, there has been a dramatic increase in the acceptance and use of prescription opioids for the treatment of chronic\, non-cancer pain\, despite serious risks and the lack of evidence about their long-term effectiveness. Anyone who takes prescription opioids can become addicted to them. \nLearn more about Big View!
URL:https://www.kootasca.org/event/big-view-understanding-the-opiod-epidemic-film-viewing/
LOCATION:Grand Rapids Area Library\, 140 NE 2nd St\, Grand Rapids\, MN\, 55744\, United States
CATEGORIES:Big View
ATTACH;FMTTYPE=image/jpeg:https://www.kootasca.org/wp-content/uploads/2018/09/450px-FDA_and_the_International_Mail_Facilities_IMFs_40931066351.jpg
ORGANIZER;CN="Robert Foster":MAILTO:robertf@kootasca.org
END:VEVENT
BEGIN:VEVENT
DTSTART;TZID=America/New_York:20180823T083000
DTEND;TZID=America/New_York:20180823T163000
DTSTAMP:20260422T171718
CREATED:20180416T192612Z
LAST-MODIFIED:20180423T173538Z
UID:1857-1535013000-1535041800@www.kootasca.org
SUMMARY:Home Stretch Homebuyer Workshop - International Falls
DESCRIPTION:Are you thinking of buying a home but don’t know how to start?\nLong-term successful homeownership starts with solid information. Home Stretch is an in-person – classroom style – workshop taught by experienced professionals. Get objective\, practical information to make the best homeownership choices for you and your family. You will learn how to: \n\nDetermine your financial situation\nManage credit to make homeownership more affordable\nChoose your best mortgage options\nSelect the right home for your family\nUnderstand the loan closing process\nFind down payment help and special loans for first-time homebuyers.\nAnd more!\n\nYou’ll leave our workshop with confidence\, tools and great resources. Down-payment and closing cost assistance\, of up to $5\,000\, is available for income eligible buyers! \nPlease preregister\, this class is popular and space is limited. \nThe $40 registration fee covers your class materials. \nIf you are in need of accommodation (e.g. a sign language interpreter\, materials in large print\, etc.) please contact us two weeks prior to this event.
URL:https://www.kootasca.org/event/home-stretch-homebuyer-eduation-workshop-2-2/
LOCATION:TBD
CATEGORIES:Homebuyer Education
ATTACH;FMTTYPE=image/jpeg:https://www.kootasca.org/wp-content/uploads/2018/03/Volunteer-instructor-3.jpg
ORGANIZER;CN="Sandy O'Fallon":MAILTO:sandyo@kootasca.org
END:VEVENT
BEGIN:VEVENT
DTSTART;TZID=America/New_York:20180718T083000
DTEND;TZID=America/New_York:20180718T163000
DTSTAMP:20260422T171718
CREATED:20180718T191626Z
LAST-MODIFIED:20180416T193636Z
UID:1848-1531902600-1531931400@www.kootasca.org
SUMMARY:Home Stretch Homebuyer Workshop - Grand Rapids
DESCRIPTION:Are you thinking of buying a home but don’t know how to start?\nLong-term successful homeownership starts with solid information. Home Stretch is an in-person – classroom style – workshop taught by experienced professionals. Get objective\, practical information to make the best homeownership choices for you and your family. You will learn how to: \n\nDetermine your financial situation\nManage credit to make homeownership more affordable\nChoose your best mortgage options\nSelect the right home for your family\nUnderstand the loan closing process\nFind down payment help\, special loans for first-time homebuyers\, and other offers\nAnd more!\n\nYou’ll leave our workshop with confidence\, great resources\, and a Home Stretch Certification! Down-payment and closing cost assistance\, of up to $5\,000\, is available for income eligible buyers! \nPlease preregister\, this is class is popular and space is limited. \nThe $40 registration fee covers your class materials. \nIf you are in need of accommodation (e.g. a sign language interpreter\, materials in large print\, etc.) please contact us two weeks prior to this event.
URL:https://www.kootasca.org/event/home-stretch-homebuyer-eduation-workshop-2/
LOCATION:TBD
CATEGORIES:Homebuyer Education
ATTACH;FMTTYPE=image/jpeg:https://www.kootasca.org/wp-content/uploads/2018/03/Fox-Family-Pic-2-e1523907359661.jpg
ORGANIZER;CN="Sandy O'Fallon":MAILTO:sandyo@kootasca.org
END:VEVENT
BEGIN:VEVENT
DTSTART;TZID=America/New_York:20180718T080000
DTEND;TZID=America/New_York:20180718T163000
DTSTAMP:20260422T171718
CREATED:20180416T191820Z
LAST-MODIFIED:20180423T173259Z
UID:1850-1531900800-1531931400@www.kootasca.org
SUMMARY:Home Stretch Homebuyer Workshop - Grand Rapids
DESCRIPTION:Are you thinking of buying a home but don’t know how to start?\nLong-term successful homeownership starts with solid information. Home Stretch is an in-person – classroom style – workshop taught by experienced professionals. Get objective\, practical information to make the best homeownership choices for you and your family. You will learn how to: \n\nDetermine your financial situation\nManage credit to make homeownership more affordable\nChoose your best mortgage options\nSelect the right home for your family\nUnderstand the loan closing process\nFind down payment help and special loans for first-time homebuyers.\nAnd more!\n\nYou’ll leave our workshop with confidence\, tools and great resources. Down-payment and closing cost assistance\, of up to $5\,000\, is available for income eligible buyers! \nPlease preregister\, this class is popular and space is limited. \nThe $40 registration fee covers your class materials. \nIf you are in need of accommodation (e.g. a sign language interpreter\, materials in large print\, etc.) please contact us two weeks prior to this event.
URL:https://www.kootasca.org/event/home-stretch-homebuyer-eduation-workshop-3/
LOCATION:KOOTASCA GR Offices-Early Childhood Hub\, 822 NE 5th Ave\, Grand Rapids\, MN\, 55744\, United States
CATEGORIES:Homebuyer Education
ATTACH;FMTTYPE=image/jpeg:https://www.kootasca.org/wp-content/uploads/2018/03/Homeowners-2014.jpg
ORGANIZER;CN="Sandy O'Fallon":MAILTO:sandyo@kootasca.org
END:VEVENT
BEGIN:VEVENT
DTSTART;TZID=America/New_York:20180630T080000
DTEND;TZID=America/New_York:20180630T160000
DTSTAMP:20260422T171718
CREATED:20180626T162851Z
LAST-MODIFIED:20180626T162851Z
UID:2283-1530345600-1530374400@www.kootasca.org
SUMMARY:Frostbite Finds Grand Re-Opening
DESCRIPTION:Frostbite Finds Thrift Store has moved to a new and bigger location! We have thousands of new items\, clothing\, furniture and more on sale to celebrate our new location.\n\n\n \n\n\nStop in to shop and register for a $50.00 gift card\, no purchase necessary!
URL:https://www.kootasca.org/event/frostbite-finds-grand-re-opening/
LOCATION:KOOTASCA International Falls Offices\, 900 5th Street\, Suite 304\, International Falls\, MN\, 56649\, United States
CATEGORIES:Frostbite Finds
ATTACH;FMTTYPE=image/png:https://www.kootasca.org/wp-content/uploads/2018/06/Medium-Stacked-Logo.png
ORGANIZER;CN="Darcy Randal":MAILTO:darcyr@kootasca.org
END:VEVENT
BEGIN:VEVENT
DTSTART;TZID=America/New_York:20180621T083000
DTEND;TZID=America/New_York:20180621T163000
DTSTAMP:20260422T171718
CREATED:20180416T192044Z
LAST-MODIFIED:20180524T135645Z
UID:1854-1529569800-1529598600@www.kootasca.org
SUMMARY:Home Stretch Homebuyer Workshop - International Falls
DESCRIPTION:Are you thinking of buying a home but don’t know how to start?\nLong-term successful homeownership starts with solid information. Home Stretch is an in-person – classroom style – workshop taught by experienced professionals. Get objective\, practical information to make the best homeownership choices for you and your family. You will learn how to: \n\nDetermine your financial situation\nManage credit to make homeownership more affordable\nChoose your best mortgage options\nSelect the right home for your family\nUnderstand the loan closing process\nFind down payment help and special loans for first-time homebuyers.\nAnd more!\n\nYou’ll leave our workshop with confidence\, tools and great resources. Down-payment and closing cost assistance\, of up to $5\,000\, is available for income eligible buyers! \nPlease preregister\, this class is popular and space is limited. \nRegistration fees are waived for this class in honor of National Homeownership Month. \nIf you are in need of accommodation (e.g. a sign language interpreter\, materials in large print\, etc.) please contact us two weeks prior to this event.
URL:https://www.kootasca.org/event/home-stretch-homebuyer-eduation-workshop-4/
LOCATION:Falls High School\, 1515 11th St\, International Falls\, MN\, 56649\, United States
CATEGORIES:Homebuyer Education
ATTACH;FMTTYPE=image/jpeg:https://www.kootasca.org/wp-content/uploads/2018/03/Fox-Family-Pic-2-e1523907359661.jpg
ORGANIZER;CN="Sandy O'Fallon":MAILTO:sandyo@kootasca.org
END:VEVENT
BEGIN:VEVENT
DTSTART;TZID=America/New_York:20180508T080000
DTEND;TZID=America/New_York:20180508T163000
DTSTAMP:20260422T171718
CREATED:20180416T191255Z
LAST-MODIFIED:20180423T192537Z
UID:1844-1525766400-1525797000@www.kootasca.org
SUMMARY:Home Stretch Homebuyer Workshop and Counseling - Grand Rapids
DESCRIPTION:Are you thinking of buying a home but don’t know how to start?\nLong-term successful homeownership starts with solid information. Home Stretch is an in-person – classroom style – workshop taught by experienced professionals. Get objective\, practical information to make the best homeownership choices for you and your family. You will learn how to: \n\nDetermine your financial situation\nManage credit to make homeownership more affordable\nChoose your best mortgage options\nSelect the right home for your family\nUnderstand the loan closing process\nFind down payment help and special loans for first-time homebuyers.\nAnd more!\n\nYou’ll leave our workshop with confidence\, Tools and great resources. Down-payment and closing cost assistance\, of up to $5\,000\, is available for income eligible buyers! \nPlease preregister\, this class is popular and space is limited. \nThe $40 registration fee covers your class materials. \nIf you are in need of accommodation (e.g. a sign language interpreter\, materials in large print\, etc.) please contact us two weeks prior to this event.
URL:https://www.kootasca.org/event/home-stretch-homebuyer-eduation-workshop/
LOCATION:KOOTASCA GR Offices-Early Childhood Hub\, 822 NE 5th Ave\, Grand Rapids\, MN\, 55744\, United States
CATEGORIES:Homebuyer Education
ATTACH;FMTTYPE=image/jpeg:https://www.kootasca.org/wp-content/uploads/2018/02/workshop-1-e1519074192109.jpg
ORGANIZER;CN="Sandy O'Fallon":MAILTO:sandyo@kootasca.org
END:VEVENT
END:VCALENDAR