BEGIN:VCALENDAR
VERSION:2.0
PRODID:-//KOOTASCA - ECPv6.15.20//NONSGML v1.0//EN
CALSCALE:GREGORIAN
METHOD:PUBLISH
X-ORIGINAL-URL:https://www.kootasca.org
X-WR-CALDESC:Events for KOOTASCA
REFRESH-INTERVAL;VALUE=DURATION:PT1H
X-Robots-Tag:noindex
X-PUBLISHED-TTL:PT1H
BEGIN:VTIMEZONE
TZID:America/Chicago
BEGIN:DAYLIGHT
TZOFFSETFROM:-0600
TZOFFSETTO:-0500
TZNAME:CDT
DTSTART:20250309T080000
END:DAYLIGHT
BEGIN:STANDARD
TZOFFSETFROM:-0500
TZOFFSETTO:-0600
TZNAME:CST
DTSTART:20251102T070000
END:STANDARD
BEGIN:DAYLIGHT
TZOFFSETFROM:-0600
TZOFFSETTO:-0500
TZNAME:CDT
DTSTART:20260308T080000
END:DAYLIGHT
BEGIN:STANDARD
TZOFFSETFROM:-0500
TZOFFSETTO:-0600
TZNAME:CST
DTSTART:20261101T070000
END:STANDARD
BEGIN:DAYLIGHT
TZOFFSETFROM:-0600
TZOFFSETTO:-0500
TZNAME:CDT
DTSTART:20270314T080000
END:DAYLIGHT
BEGIN:STANDARD
TZOFFSETFROM:-0500
TZOFFSETTO:-0600
TZNAME:CST
DTSTART:20271107T070000
END:STANDARD
END:VTIMEZONE
BEGIN:VEVENT
DTSTART;TZID=America/Chicago:20260425T100000
DTEND;TZID=America/Chicago:20260425T140000
DTSTAMP:20260421T130456
CREATED:20260310T144302Z
LAST-MODIFIED:20260310T144455Z
UID:6275-1777111200-1777125600@www.kootasca.org
SUMMARY:KOOTASCA Carnival
DESCRIPTION:
URL:https://www.kootasca.org/event/kootasca-carnival/
LOCATION:KOOTASCA GR Offices-Early Childhood Hub\, 822 NE 5th Ave\, Grand Rapids\, MN\, 55744\, United States
ATTACH;FMTTYPE=application/pdf:https://www.kootasca.org/wp-content/uploads/2026/03/Kootasca-Carnival-Save-The-Date-1-1.pdf
ORGANIZER;CN="KOOTASCA Head Start":MAILTO:headstartadmin@kootasca.org
END:VEVENT
BEGIN:VEVENT
DTSTART;TZID=America/Chicago:20260425T110000
DTEND;TZID=America/Chicago:20260425T130000
DTSTAMP:20260421T130456
CREATED:20260409T014220Z
LAST-MODIFIED:20260409T014220Z
UID:6308-1777114800-1777122000@www.kootasca.org
SUMMARY:Bike Rodeo
DESCRIPTION:
URL:https://www.kootasca.org/event/bike-rodeo/
LOCATION:Kerry Park Arena\, 601 13th Street\, International Falls\, 56649
CATEGORIES:Community Engagement
ATTACH;FMTTYPE=image/jpeg:https://www.kootasca.org/wp-content/uploads/2026/04/Bike-Rodeo-Flyer.jpg
END:VEVENT
BEGIN:VEVENT
DTSTART;TZID=America/Chicago:20260520T090000
DTEND;TZID=America/Chicago:20260520T173000
DTSTAMP:20260421T130456
CREATED:20260416T011227Z
LAST-MODIFIED:20260416T011227Z
UID:6314-1779267600-1779298200@www.kootasca.org
SUMMARY:May Homebuyers Workshop via ZOOM
DESCRIPTION:
URL:https://www.kootasca.org/event/may-homebuyers-workshop-via-zoom/
CATEGORIES:Homebuyer Education
ATTACH;FMTTYPE=image/png:https://www.kootasca.org/wp-content/uploads/2026/04/KCA-May.png
END:VEVENT
END:VCALENDAR